Package: schex Version: 1.20.0 Command: /Library/Frameworks/R.framework/Resources/bin/R CMD build --keep-empty-dirs --no-resave-data schex StartedAt: 2025-02-04 07:33:15 -0500 (Tue, 04 Feb 2025) EndedAt: 2025-02-04 07:35:36 -0500 (Tue, 04 Feb 2025) EllapsedTime: 141.4 seconds RetCode: 0 Status: OK PackageFile: schex_1.20.0.tar.gz PackageFileSize: 3.703 MiB