Package: schex Version: 1.20.0 Command: /home/biocbuild/bbs-3.20-bioc/R/bin/R CMD check --install=check:schex.install-out.txt --library=/home/biocbuild/bbs-3.20-bioc/R/site-library --timings schex_1.20.0.tar.gz StartedAt: 2025-02-04 02:12:22 -0500 (Tue, 04 Feb 2025) EndedAt: 2025-02-04 02:19:21 -0500 (Tue, 04 Feb 2025) EllapsedTime: 418.3 seconds RetCode: 0 Status: OK CheckDir: schex.Rcheck Warnings: 0