Package: schex Version: 1.20.0 Command: rm -rf schex.buildbin-libdir && mkdir schex.buildbin-libdir && F:\biocbuild\bbs-3.20-bioc\R\bin\R.exe CMD INSTALL --build --library=schex.buildbin-libdir schex_1.20.0.tar.gz StartedAt: 2025-02-04 09:27:38 -0500 (Tue, 04 Feb 2025) EndedAt: 2025-02-04 09:28:12 -0500 (Tue, 04 Feb 2025) EllapsedTime: 33.4 seconds RetCode: 0 Status: OK PackageFile: schex_1.20.0.zip PackageFileSize: 1.604 MiB