Package: schex Version: 1.20.0 Command: chmod a+r schex -R && F:\biocbuild\bbs-3.20-bioc\R\bin\R.exe CMD build --keep-empty-dirs --no-resave-data schex StartedAt: 2025-02-03 21:56:48 -0500 (Mon, 03 Feb 2025) EndedAt: 2025-02-03 21:59:31 -0500 (Mon, 03 Feb 2025) EllapsedTime: 163.5 seconds RetCode: 0 Status: OK PackageFile: schex_1.20.0.tar.gz PackageFileSize: 2.892 MiB