Package: scider Version: 1.4.0 Command: /Library/Frameworks/R.framework/Resources/bin/R CMD check --install=check:scider.install-out.txt --library=/Library/Frameworks/R.framework/Resources/library --no-vignettes --timings scider_1.4.0.tar.gz StartedAt: 2025-02-05 09:13:25 -0500 (Wed, 05 Feb 2025) EndedAt: 2025-02-05 09:21:10 -0500 (Wed, 05 Feb 2025) EllapsedTime: 464.7 seconds RetCode: 0 Status: OK CheckDir: scider.Rcheck Warnings: 0