Package: scider Version: 1.4.0 Command: /Library/Frameworks/R.framework/Resources/bin/R CMD INSTALL scider StartedAt: 2025-02-03 17:55:12 -0500 (Mon, 03 Feb 2025) EndedAt: 2025-02-03 17:55:45 -0500 (Mon, 03 Feb 2025) EllapsedTime: 32.9 seconds RetCode: 0 Status: OK