Package: scider Version: 1.4.0 Command: /Library/Frameworks/R.framework/Resources/bin/R CMD build --keep-empty-dirs --no-resave-data scider StartedAt: 2025-01-30 22:36:33 -0500 (Thu, 30 Jan 2025) EndedAt: 2025-01-30 22:40:09 -0500 (Thu, 30 Jan 2025) EllapsedTime: 215.8 seconds RetCode: 0 Status: OK PackageFile: scider_1.4.0.tar.gz PackageFileSize: 2.83 MiB