Package: scider Version: 1.4.0 Command: F:\biocbuild\bbs-3.20-bioc\R\bin\R.exe CMD INSTALL scider StartedAt: 2025-01-30 16:48:20 -0500 (Thu, 30 Jan 2025) EndedAt: 2025-01-30 16:49:07 -0500 (Thu, 30 Jan 2025) EllapsedTime: 46.9 seconds RetCode: 0 Status: OK