Package: scider Version: 1.4.0 Command: /home/biocbuild/R/R/bin/R CMD build --keep-empty-dirs --no-resave-data scider StartedAt: 2025-01-31 02:28:46 -0000 (Fri, 31 Jan 2025) EndedAt: 2025-01-31 02:28:48 -0000 (Fri, 31 Jan 2025) EllapsedTime: 2.0 seconds RetCode: 1 Status: ERROR PackageFile: None PackageFileSize: NA