Package: scider Version: 1.4.0 Command: /home/biocbuild/R/R/bin/R CMD INSTALL scider StartedAt: 2025-01-30 21:01:49 -0000 (Thu, 30 Jan 2025) EndedAt: 2025-01-30 21:01:50 -0000 (Thu, 30 Jan 2025) EllapsedTime: 1.1 seconds RetCode: 1 Status: ERROR