Package: scoup Version: 1.0.0 Command: rm -rf scoup.buildbin-libdir && mkdir scoup.buildbin-libdir && /Users/biocbuild/BBS/utils/build-universal.sh scoup_1.0.0.tar.gz /Library/Frameworks/R.framework/Resources/bin/R scoup.buildbin-libdir StartedAt: 2025-02-05 17:42:41 -0500 (Wed, 05 Feb 2025) EndedAt: 2025-02-05 17:42:58 -0500 (Wed, 05 Feb 2025) EllapsedTime: 17.6 seconds RetCode: 0 Status: OK PackageFile: scoup_1.0.0.tgz PackageFileSize: 622.5 KiB