Package: scoup Version: 1.0.0 Command: /Library/Frameworks/R.framework/Resources/bin/R CMD build --keep-empty-dirs --no-resave-data scoup StartedAt: 2025-02-04 07:40:25 -0500 (Tue, 04 Feb 2025) EndedAt: 2025-02-04 07:40:53 -0500 (Tue, 04 Feb 2025) EllapsedTime: 27.4 seconds RetCode: 0 Status: OK PackageFile: scoup_1.0.0.tar.gz PackageFileSize: 334 KiB