Package: scoup
Version: 1.0.0
Command: /Library/Frameworks/R.framework/Resources/bin/R CMD check --install=check:scoup.install-out.txt --library=/Library/Frameworks/R.framework/Resources/library --no-vignettes --timings scoup_1.0.0.tar.gz
StartedAt: 2025-02-19 08:40:48 -0500 (Wed, 19 Feb 2025)
EndedAt: 2025-02-19 08:43:51 -0500 (Wed, 19 Feb 2025)
EllapsedTime: 183.5 seconds
RetCode: 0
Status: OK
CheckDir: scoup.Rcheck
Warnings: 0