Package: scoup Version: 1.0.0 Command: /home/biocbuild/bbs-3.20-bioc/R/bin/R CMD check --install=check:scoup.install-out.txt --library=/home/biocbuild/bbs-3.20-bioc/R/site-library --timings scoup_1.0.0.tar.gz StartedAt: 2025-02-04 02:16:29 -0500 (Tue, 04 Feb 2025) EndedAt: 2025-02-04 02:18:59 -0500 (Tue, 04 Feb 2025) EllapsedTime: 150.1 seconds RetCode: 0 Status: OK CheckDir: scoup.Rcheck Warnings: 0