Package: scoup Version: 1.0.0 Command: /home/biocbuild/bbs-3.20-bioc/R/bin/R CMD INSTALL scoup StartedAt: 2025-02-03 15:20:05 -0500 (Mon, 03 Feb 2025) EndedAt: 2025-02-03 15:20:18 -0500 (Mon, 03 Feb 2025) EllapsedTime: 12.8 seconds RetCode: 0 Status: OK