Package: scoup
Version: 1.0.0
Command: F:\biocbuild\bbs-3.20-bioc\R\bin\R.exe CMD INSTALL scoup
StartedAt: 2025-02-17 15:39:36 -0500 (Mon, 17 Feb 2025)
EndedAt: 2025-02-17 15:40:11 -0500 (Mon, 17 Feb 2025)
EllapsedTime: 35.1 seconds
RetCode: 0
Status: OK