Package: scoup Version: 1.0.0 Command: /home/biocbuild/R/R/bin/R CMD INSTALL scoup StartedAt: 2025-02-03 20:30:27 -0000 (Mon, 03 Feb 2025) EndedAt: 2025-02-03 20:30:44 -0000 (Mon, 03 Feb 2025) EllapsedTime: 16.9 seconds RetCode: 0 Status: OK