Package: scran Version: 1.34.0 Command: rm -rf scran.buildbin-libdir && mkdir scran.buildbin-libdir && /Users/biocbuild/BBS/utils/build-universal.sh scran_1.34.0.tar.gz /Library/Frameworks/R.framework/Resources/bin/R scran.buildbin-libdir StartedAt: 2025-02-05 17:43:24 -0500 (Wed, 05 Feb 2025) EndedAt: 2025-02-05 17:44:45 -0500 (Wed, 05 Feb 2025) EllapsedTime: 80.4 seconds RetCode: 0 Status: OK PackageFile: scran_1.34.0.tgz PackageFileSize: 2.306 MiB