Package: scran Version: 1.34.0 Command: /Library/Frameworks/R.framework/Resources/bin/R CMD build --keep-empty-dirs --no-resave-data scran StartedAt: 2025-02-04 07:46:03 -0500 (Tue, 04 Feb 2025) EndedAt: 2025-02-04 07:49:57 -0500 (Tue, 04 Feb 2025) EllapsedTime: 234.2 seconds RetCode: 0 Status: OK PackageFile: scran_1.34.0.tar.gz PackageFileSize: 1.857 MiB