Package: scran Version: 1.34.0 Command: /home/biocbuild/R/R/bin/R CMD build --keep-empty-dirs --no-resave-data scran StartedAt: 2025-02-04 02:47:02 -0000 (Tue, 04 Feb 2025) EndedAt: 2025-02-04 02:51:59 -0000 (Tue, 04 Feb 2025) EllapsedTime: 297.3 seconds RetCode: 0 Status: OK PackageFile: scran_1.34.0.tar.gz PackageFileSize: 1.245 MiB