Package: scran Version: 1.34.0 Command: /home/biocbuild/R/R/bin/R CMD INSTALL scran StartedAt: 2025-02-03 21:15:24 -0000 (Mon, 03 Feb 2025) EndedAt: 2025-02-03 21:17:08 -0000 (Mon, 03 Feb 2025) EllapsedTime: 104.1 seconds RetCode: 0 Status: OK