Package: scrapper Version: 1.0.3 Command: /Library/Frameworks/R.framework/Resources/bin/R CMD check --install=check:scrapper.install-out.txt --library=/Library/Frameworks/R.framework/Resources/library --no-vignettes --timings scrapper_1.0.3.tar.gz StartedAt: 2025-02-05 09:30:10 -0500 (Wed, 05 Feb 2025) EndedAt: 2025-02-05 09:33:28 -0500 (Wed, 05 Feb 2025) EllapsedTime: 198.4 seconds RetCode: 0 Status: OK CheckDir: scrapper.Rcheck Warnings: 0