Package: scrapper Version: 1.0.3 Command: /Library/Frameworks/R.framework/Resources/bin/R CMD build --keep-empty-dirs --no-resave-data scrapper StartedAt: 2025-02-03 22:08:57 -0500 (Mon, 03 Feb 2025) EndedAt: 2025-02-03 22:22:20 -0500 (Mon, 03 Feb 2025) EllapsedTime: 803.2 seconds RetCode: 0 Status: OK PackageFile: scrapper_1.0.3.tar.gz PackageFileSize: 648.7 KiB