Package: scrapper Version: 1.0.3 Command: /Library/Frameworks/R.framework/Resources/bin/R CMD INSTALL scrapper StartedAt: 2025-02-03 15:26:27 -0500 (Mon, 03 Feb 2025) EndedAt: 2025-02-03 15:36:08 -0500 (Mon, 03 Feb 2025) EllapsedTime: 580.7 seconds RetCode: 0 Status: OK