Package: scrapper Version: 1.0.3 Command: /home/biocbuild/bbs-3.20-bioc/R/bin/R CMD check --install=check:scrapper.install-out.txt --library=/home/biocbuild/bbs-3.20-bioc/R/site-library --timings scrapper_1.0.3.tar.gz StartedAt: 2025-02-04 02:17:59 -0500 (Tue, 04 Feb 2025) EndedAt: 2025-02-04 02:22:11 -0500 (Tue, 04 Feb 2025) EllapsedTime: 252.2 seconds RetCode: 0 Status: OK CheckDir: scrapper.Rcheck Warnings: 0