Package: scrapper Version: 1.0.3 Command: /home/biocbuild/bbs-3.20-bioc/R/bin/R CMD INSTALL scrapper StartedAt: 2025-02-03 15:23:15 -0500 (Mon, 03 Feb 2025) EndedAt: 2025-02-03 15:28:51 -0500 (Mon, 03 Feb 2025) EllapsedTime: 336.2 seconds RetCode: 0 Status: OK