Package: scrapper Version: 1.0.3 Command: /home/biocbuild/R/R/bin/R CMD INSTALL scrapper StartedAt: 2025-02-03 20:34:52 -0000 (Mon, 03 Feb 2025) EndedAt: 2025-02-03 20:42:37 -0000 (Mon, 03 Feb 2025) EllapsedTime: 465.0 seconds RetCode: 0 Status: OK