Package: screenCounter
Version: 1.6.0
Command: /Library/Frameworks/R.framework/Resources/bin/R CMD build --keep-empty-dirs --no-resave-data screenCounter
StartedAt: 2024-11-08 19:02:43 -0500 (Fri, 08 Nov 2024)
EndedAt: 2024-11-08 19:03:17 -0500 (Fri, 08 Nov 2024)
EllapsedTime: 33.3 seconds
RetCode: 0
Status: OK
PackageFile: screenCounter_1.6.0.tar.gz
PackageFileSize: 293.2 <A href="http://en.wikipedia.org/wiki/KiB" target="_blank">KiB</A>