Package: screenCounter Version: 1.6.0 Command: /Library/Frameworks/R.framework/Resources/bin/R CMD check --install=check:screenCounter.install-out.txt --library=/Library/Frameworks/R.framework/Resources/library --no-vignettes --timings screenCounter_1.6.0.tar.gz StartedAt: 2025-02-04 09:52:15 -0500 (Tue, 04 Feb 2025) EndedAt: 2025-02-04 09:58:29 -0500 (Tue, 04 Feb 2025) EllapsedTime: 373.8 seconds RetCode: 0 Status: OK CheckDir: screenCounter.Rcheck Warnings: 0