Package: screenCounter Version: 1.6.0 Command: /Library/Frameworks/R.framework/Resources/bin/R CMD INSTALL screenCounter StartedAt: 2025-02-03 15:36:15 -0500 (Mon, 03 Feb 2025) EndedAt: 2025-02-03 15:38:56 -0500 (Mon, 03 Feb 2025) EllapsedTime: 160.5 seconds RetCode: 0 Status: OK