Package: screenCounter Version: 1.6.0 Command: /home/biocbuild/R/R/bin/R CMD build --keep-empty-dirs --no-resave-data screenCounter StartedAt: 2025-02-04 02:49:01 -0000 (Tue, 04 Feb 2025) EndedAt: 2025-02-04 02:51:55 -0000 (Tue, 04 Feb 2025) EllapsedTime: 174.2 seconds RetCode: 0 Status: OK PackageFile: screenCounter_1.6.0.tar.gz PackageFileSize: 319.3 KiB