Package: screenCounter Version: 1.6.0 Command: /home/biocbuild/R/R/bin/R CMD check --install=check:screenCounter.install-out.txt --library=/home/biocbuild/R/R/site-library --no-vignettes --timings screenCounter_1.6.0.tar.gz StartedAt: 2025-02-04 10:55:00 -0000 (Tue, 04 Feb 2025) EndedAt: 2025-02-04 10:58:08 -0000 (Tue, 04 Feb 2025) EllapsedTime: 188.2 seconds RetCode: 0 Status: OK CheckDir: screenCounter.Rcheck Warnings: 0