Package: screenCounter Version: 1.6.0 Command: /home/biocbuild/R/R/bin/R CMD INSTALL screenCounter StartedAt: 2025-02-03 20:37:28 -0000 (Mon, 03 Feb 2025) EndedAt: 2025-02-03 20:39:35 -0000 (Mon, 03 Feb 2025) EllapsedTime: 127.3 seconds RetCode: 0 Status: OK