Package: scruff Version: 1.24.0 Command: /home/biocbuild/R/R/bin/R CMD INSTALL scruff StartedAt: 2024-11-19 21:06:23 -0000 (Tue, 19 Nov 2024) EndedAt: 2024-11-19 21:07:47 -0000 (Tue, 19 Nov 2024) EllapsedTime: 84.5 seconds RetCode: 0 Status: OK