Package: scruff Version: 1.24.0 Command: /Library/Frameworks/R.framework/Resources/bin/R CMD INSTALL scruff StartedAt: 2025-02-10 16:01:22 -0500 (Mon, 10 Feb 2025) EndedAt: 2025-02-10 16:03:23 -0500 (Mon, 10 Feb 2025) EllapsedTime: 121.0 seconds RetCode: 0 Status: OK