Package: scruff Version: 1.24.0 Command: F:\biocbuild\bbs-3.20-bioc\R\bin\R.exe CMD check --no-multiarch --install=check:scruff.install-out.txt --library=F:\biocbuild\bbs-3.20-bioc\R\library --no-vignettes --timings scruff_1.24.0.tar.gz StartedAt: 2025-02-11 06:02:37 -0500 (Tue, 11 Feb 2025) EndedAt: 2025-02-11 06:11:08 -0500 (Tue, 11 Feb 2025) EllapsedTime: 511.4 seconds RetCode: 0 Status: OK CheckDir: scruff.Rcheck Warnings: 0