Package: scruff Version: 1.24.0 Command: /home/biocbuild/R/R/bin/R CMD INSTALL scruff StartedAt: 2025-02-03 20:59:33 -0000 (Mon, 03 Feb 2025) EndedAt: 2025-02-03 21:00:45 -0000 (Mon, 03 Feb 2025) EllapsedTime: 71.9 seconds RetCode: 0 Status: OK