Package: scry Version: 1.18.0 Command: /Library/Frameworks/R.framework/Resources/bin/R CMD check --install=check:scry.install-out.txt --library=/Library/Frameworks/R.framework/Resources/library --no-vignettes --timings scry_1.18.0.tar.gz StartedAt: 2025-02-05 09:38:22 -0500 (Wed, 05 Feb 2025) EndedAt: 2025-02-05 09:41:53 -0500 (Wed, 05 Feb 2025) EllapsedTime: 210.9 seconds RetCode: 0 Status: OK CheckDir: scry.Rcheck Warnings: 0