Package: scry Version: 1.18.0 Command: /Library/Frameworks/R.framework/Resources/bin/R CMD build --keep-empty-dirs --no-resave-data scry StartedAt: 2025-02-03 22:11:02 -0500 (Mon, 03 Feb 2025) EndedAt: 2025-02-03 22:21:21 -0500 (Mon, 03 Feb 2025) EllapsedTime: 619.3 seconds RetCode: 1 Status: ERROR PackageFile: None PackageFileSize: NA