Package: scry Version: 1.18.0 Command: chmod a+r scry -R && F:\biocbuild\bbs-3.20-bioc\R\bin\R.exe CMD build --keep-empty-dirs --no-resave-data scry StartedAt: 2025-02-03 22:01:27 -0500 (Mon, 03 Feb 2025) EndedAt: 2025-02-03 22:07:43 -0500 (Mon, 03 Feb 2025) EllapsedTime: 376.1 seconds RetCode: 0 Status: OK PackageFile: scry_1.18.0.tar.gz PackageFileSize: 4.404 MiB