Package: scry Version: 1.18.0 Command: /home/biocbuild/R/R/bin/R CMD build --keep-empty-dirs --no-resave-data scry StartedAt: 2025-02-04 02:51:11 -0000 (Tue, 04 Feb 2025) EndedAt: 2025-02-04 02:55:43 -0000 (Tue, 04 Feb 2025) EllapsedTime: 271.4 seconds RetCode: 0 Status: OK PackageFile: scry_1.18.0.tar.gz PackageFileSize: 4.427 MiB