Package: scuttle Version: 1.16.0 Command: rm -rf scuttle.buildbin-libdir && mkdir scuttle.buildbin-libdir && /Users/biocbuild/BBS/utils/build-universal.sh scuttle_1.16.0.tar.gz /Library/Frameworks/R.framework/Resources/bin/R scuttle.buildbin-libdir StartedAt: 2024-11-20 04:50:45 -0500 (Wed, 20 Nov 2024) EndedAt: 2024-11-20 04:52:17 -0500 (Wed, 20 Nov 2024) EllapsedTime: 92.1 seconds RetCode: 0 Status: OK PackageFile: scuttle_1.16.0.tgz PackageFileSize: 1.282 MiB