Package: scuttle Version: 1.16.0 Command: /home/biocbuild/bbs-3.20-bioc/R/bin/R CMD build --keep-empty-dirs --no-resave-data --md5 scuttle StartedAt: 2025-02-03 19:16:08 -0500 (Mon, 03 Feb 2025) EndedAt: 2025-02-03 19:18:43 -0500 (Mon, 03 Feb 2025) EllapsedTime: 154.2 seconds RetCode: 0 Status: OK PackageFile: scuttle_1.16.0.tar.gz PackageFileSize: 1010 KiB