Package: scviR Version: 1.6.0 Command: /Library/Frameworks/R.framework/Resources/bin/R CMD build --keep-empty-dirs --no-resave-data scviR StartedAt: 2025-02-04 07:58:13 -0500 (Tue, 04 Feb 2025) EndedAt: 2025-02-04 08:00:32 -0500 (Tue, 04 Feb 2025) EllapsedTime: 138.9 seconds RetCode: 0 Status: OK PackageFile: scviR_1.6.0.tar.gz PackageFileSize: 3.728 MiB