Package: scviR Version: 1.6.0 Command: /Library/Frameworks/R.framework/Resources/bin/R CMD build --keep-empty-dirs --no-resave-data scviR StartedAt: 2025-02-17 22:17:29 -0500 (Mon, 17 Feb 2025) EndedAt: 2025-02-17 22:21:03 -0500 (Mon, 17 Feb 2025) EllapsedTime: 213.3 seconds RetCode: 1 Status: ERROR PackageFile: None PackageFileSize: NA