Package: seahtrue Version: 1.0.0 Command: /Library/Frameworks/R.framework/Resources/bin/R CMD build --keep-empty-dirs --no-resave-data seahtrue StartedAt: 2025-02-11 07:54:57 -0500 (Tue, 11 Feb 2025) EndedAt: 2025-02-11 07:58:41 -0500 (Tue, 11 Feb 2025) EllapsedTime: 223.8 seconds RetCode: 0 Status: OK PackageFile: seahtrue_1.0.0.tar.gz PackageFileSize: 3.32 MiB