Package: seahtrue Version: 1.0.0 Command: /Library/Frameworks/R.framework/Resources/bin/R CMD INSTALL seahtrue StartedAt: 2025-02-03 15:50:45 -0500 (Mon, 03 Feb 2025) EndedAt: 2025-02-03 15:51:02 -0500 (Mon, 03 Feb 2025) EllapsedTime: 16.9 seconds RetCode: 0 Status: OK