Package: seahtrue Version: 1.0.0 Command: chmod a+r seahtrue -R && F:\biocbuild\bbs-3.20-bioc\R\bin\R.exe CMD build --keep-empty-dirs --no-resave-data seahtrue StartedAt: 2025-02-03 22:04:04 -0500 (Mon, 03 Feb 2025) EndedAt: 2025-02-03 22:08:18 -0500 (Mon, 03 Feb 2025) EllapsedTime: 253.7 seconds RetCode: 0 Status: OK PackageFile: seahtrue_1.0.0.tar.gz PackageFileSize: 3.321 MiB