Package: seahtrue Version: 1.0.0 Command: /home/biocbuild/R/R/bin/R CMD build --keep-empty-dirs --no-resave-data seahtrue StartedAt: 2025-02-04 02:53:31 -0000 (Tue, 04 Feb 2025) EndedAt: 2025-02-04 02:59:06 -0000 (Tue, 04 Feb 2025) EllapsedTime: 334.6 seconds RetCode: 0 Status: OK PackageFile: seahtrue_1.0.0.tar.gz PackageFileSize: 3.385 MiB