Package: seahtrue Version: 1.0.0 Command: /home/biocbuild/R/R/bin/R CMD check --install=check:seahtrue.install-out.txt --library=/home/biocbuild/R/R/site-library --no-vignettes --timings seahtrue_1.0.0.tar.gz StartedAt: 2025-02-04 10:58:01 -0000 (Tue, 04 Feb 2025) EndedAt: 2025-02-04 11:04:25 -0000 (Tue, 04 Feb 2025) EllapsedTime: 383.5 seconds RetCode: 0 Status: OK CheckDir: seahtrue.Rcheck Warnings: 0